BEGIN:VCALENDAR
VERSION:2.0
PRODID:-//Cirencester-Phoenix - ECPv6.15.18//NONSGML v1.0//EN
CALSCALE:GREGORIAN
METHOD:PUBLISH
X-ORIGINAL-URL:https://cpwfc.org
X-WR-CALDESC:Events for Cirencester-Phoenix
REFRESH-INTERVAL;VALUE=DURATION:PT1H
X-Robots-Tag:noindex
X-PUBLISHED-TTL:PT1H
BEGIN:VTIMEZONE
TZID:Europe/London
BEGIN:DAYLIGHT
TZOFFSETFROM:+0000
TZOFFSETTO:+0100
TZNAME:BST
DTSTART:20240331T010000
END:DAYLIGHT
BEGIN:STANDARD
TZOFFSETFROM:+0100
TZOFFSETTO:+0000
TZNAME:GMT
DTSTART:20241027T010000
END:STANDARD
BEGIN:DAYLIGHT
TZOFFSETFROM:+0000
TZOFFSETTO:+0100
TZNAME:BST
DTSTART:20250330T010000
END:DAYLIGHT
BEGIN:STANDARD
TZOFFSETFROM:+0100
TZOFFSETTO:+0000
TZNAME:GMT
DTSTART:20251026T010000
END:STANDARD
BEGIN:DAYLIGHT
TZOFFSETFROM:+0000
TZOFFSETTO:+0100
TZNAME:BST
DTSTART:20260329T010000
END:DAYLIGHT
BEGIN:STANDARD
TZOFFSETFROM:+0100
TZOFFSETTO:+0000
TZNAME:GMT
DTSTART:20261025T010000
END:STANDARD
END:VTIMEZONE
BEGIN:VTIMEZONE
TZID:UTC
BEGIN:STANDARD
TZOFFSETFROM:+0000
TZOFFSETTO:+0000
TZNAME:UTC
DTSTART:20230101T000000
END:STANDARD
END:VTIMEZONE
BEGIN:VEVENT
DTSTART;TZID=Europe/London:20250509T150000
DTEND;TZID=Europe/London:20250509T160000
DTSTAMP:20260419T131410
CREATED:20250415T083837Z
LAST-MODIFIED:20250421T081936Z
UID:929-1746802800-1746806400@cpwfc.org
SUMMARY:Friday 9th May
DESCRIPTION:Booking opens on April 23rd at 9.00am. Organisers are pre-booked. Waiting list priority order reads from left to right on top row\, then left to right on second row etc.
URL:https://cpwfc.org/event/friday-9th-may
LOCATION:Cirencester Arena
CATEGORIES:Friday
ORGANIZER;CN="Peter Mitchell":MAILTO:pjmitch1348@gmail.com
END:VEVENT
BEGIN:VEVENT
DTSTART;TZID=Europe/London:20250502T150000
DTEND;TZID=Europe/London:20250502T160000
DTSTAMP:20260419T131410
CREATED:20250415T083637Z
LAST-MODIFIED:20250420T195559Z
UID:925-1746198000-1746201600@cpwfc.org
SUMMARY:Friday 2nd May
DESCRIPTION:Booking opens on April 23rd at 9.00am. Organisers are pre-booked. Waiting list priority order reads from left to right on top row\, then left to right on second row etc.
URL:https://cpwfc.org/event/friday-2nd-may
LOCATION:Cirencester Arena
CATEGORIES:Friday
ORGANIZER;CN="Dave Jenkins":MAILTO:dave.cjenkins@btinternet.com
END:VEVENT
BEGIN:VEVENT
DTSTART;TZID=UTC:20250425T160000
DTEND;TZID=UTC:20250425T170000
DTSTAMP:20260419T131410
CREATED:20250312T125035Z
LAST-MODIFIED:20250317T084418Z
UID:825-1745596800-1745600400@cpwfc.org
SUMMARY:Friday 25th April
DESCRIPTION:Booking opens on March 23rd at 9.00am. Organisers are pre-booked. Waiting list priority order reads from left to right on top row\, then left to right on second row etc. Note: This session is at 4.00pm
URL:https://cpwfc.org/event/friday-25th-april
LOCATION:Cirencester Arena
CATEGORIES:Friday
ORGANIZER;CN="Geoff Mitchell":MAILTO:gjm2282@hotmail.com
END:VEVENT
BEGIN:VEVENT
DTSTART;TZID=UTC:20250418T150000
DTEND;TZID=UTC:20250418T160000
DTSTAMP:20260419T131410
CREATED:20250312T124744Z
LAST-MODIFIED:20250312T124744Z
UID:821-1744988400-1744992000@cpwfc.org
SUMMARY:Friday 18th April
DESCRIPTION:There will be no session as the arena is closed for Good Friday
URL:https://cpwfc.org/event/friday-18th-april
CATEGORIES:Friday
END:VEVENT
BEGIN:VEVENT
DTSTART;TZID=UTC:20250411T150000
DTEND;TZID=UTC:20250411T160000
DTSTAMP:20260419T131410
CREATED:20250312T124513Z
LAST-MODIFIED:20250317T084358Z
UID:817-1744383600-1744387200@cpwfc.org
SUMMARY:Friday 11th April
DESCRIPTION:Booking opens on March 23rd at 9.00am. Organisers are pre-booked. Waiting list priority order reads from left to right on top row\, then left to right on second row etc.
URL:https://cpwfc.org/event/friday-11th-april
LOCATION:Cirencester Arena
CATEGORIES:Friday
ORGANIZER;CN="Jeff Green":MAILTO:jeff.green50@icloud.com
END:VEVENT
BEGIN:VEVENT
DTSTART;TZID=UTC:20250404T150000
DTEND;TZID=UTC:20250404T160000
DTSTAMP:20260419T131410
CREATED:20250312T124312Z
LAST-MODIFIED:20250317T084340Z
UID:813-1743778800-1743782400@cpwfc.org
SUMMARY:Friday 4th April
DESCRIPTION:Booking opens on March 23rd at 9.00am. Organisers are pre-booked. Waiting list priority order reads from left to right on top row\, then left to right on second row etc.
URL:https://cpwfc.org/event/friday-4th-april
LOCATION:Cirencester Arena
CATEGORIES:Friday
ORGANIZER;CN="Steve Boss":MAILTO:stevebossuk@yahoo.co.uk
END:VEVENT
BEGIN:VEVENT
DTSTART;TZID=UTC:20250328T150000
DTEND;TZID=UTC:20250328T160000
DTSTAMP:20260419T131410
CREATED:20250211T122428Z
LAST-MODIFIED:20250220T085327Z
UID:778-1743174000-1743177600@cpwfc.org
SUMMARY:Friday 28th March
DESCRIPTION:Booking opens on February 23rd at 9.00am. Organisers are pre-booked. Waiting list priority order reads from left to right on top row\, then left to right on second row etc.
URL:https://cpwfc.org/event/friday-28th-march
LOCATION:Cirencester Arena
CATEGORIES:Friday
ORGANIZER;CN="Dave Jenkins":MAILTO:dave.cjenkins@btinternet.com
END:VEVENT
BEGIN:VEVENT
DTSTART;TZID=UTC:20250321T150000
DTEND;TZID=UTC:20250321T160000
DTSTAMP:20260419T131410
CREATED:20250211T122236Z
LAST-MODIFIED:20250220T085311Z
UID:774-1742569200-1742572800@cpwfc.org
SUMMARY:Friday 21st March
DESCRIPTION:Booking opens on February 23rd at 9.00am. Organisers are pre-booked. Waiting list priority order reads from left to right on top row\, then left to right on second row etc.
URL:https://cpwfc.org/event/friday-21st-march
LOCATION:Cirencester Arena
CATEGORIES:Friday
ORGANIZER;CN="Adrian Chamberlain":MAILTO:ajc2adrian@gmail.com
END:VEVENT
BEGIN:VEVENT
DTSTART;TZID=UTC:20250314T150000
DTEND;TZID=UTC:20250314T160000
DTSTAMP:20260419T131410
CREATED:20250211T122105Z
LAST-MODIFIED:20250220T074143Z
UID:770-1741964400-1741968000@cpwfc.org
SUMMARY:Friday 14th March
DESCRIPTION:Booking opens on February 23rd at 9.00am. Organisers are pre-booked. Waiting list priority order reads from left to right on top row\, then left to right on second row etc.
URL:https://cpwfc.org/event/friday-14th-march
LOCATION:Cirencester Arena
CATEGORIES:Friday
ORGANIZER;CN="Peter Mitchell":MAILTO:pjmitch1348@gmail.com
END:VEVENT
BEGIN:VEVENT
DTSTART;TZID=UTC:20250307T150000
DTEND;TZID=UTC:20250307T160000
DTSTAMP:20260419T131410
CREATED:20250211T121931Z
LAST-MODIFIED:20250220T085240Z
UID:766-1741359600-1741363200@cpwfc.org
SUMMARY:Friday 7th March
DESCRIPTION:Booking opens on February 23rd at 9.00am. Organisers are pre-booked. Waiting list priority order reads from left to right on top row\, then left to right on second row etc.
URL:https://cpwfc.org/event/friday-7th-march
LOCATION:Cirencester Arena
CATEGORIES:Friday
ORGANIZER;CN="Geoff Mitchell":MAILTO:gjm2282@hotmail.com
END:VEVENT
BEGIN:VEVENT
DTSTART;TZID=UTC:20250228T150000
DTEND;TZID=UTC:20250228T160000
DTSTAMP:20260419T131410
CREATED:20250112T104324Z
LAST-MODIFIED:20250122T194338Z
UID:734-1740754800-1740758400@cpwfc.org
SUMMARY:Friday 28th February
DESCRIPTION:Booking opens on January 23rd at 9.00am. Organisers are pre-booked. Waiting list priority order reads from left to right on top row\, then left to right on second row etc.
URL:https://cpwfc.org/event/friday-28th-february
LOCATION:Cirencester Arena
CATEGORIES:Friday
ORGANIZER;CN="Jeff Green":MAILTO:jeff.green50@icloud.com
END:VEVENT
BEGIN:VEVENT
DTSTART;TZID=UTC:20250221T150000
DTEND;TZID=UTC:20250221T160000
DTSTAMP:20260419T131410
CREATED:20250112T104129Z
LAST-MODIFIED:20250122T193851Z
UID:730-1740150000-1740153600@cpwfc.org
SUMMARY:Friday 21st February
DESCRIPTION:Booking opens on January 23rd at 9.00am. Organisers are pre-booked. Waiting list priority order reads from left to right on top row\, then left to right on second row etc.
URL:https://cpwfc.org/event/friday-21st-february
LOCATION:Cirencester Arena
CATEGORIES:Friday
ORGANIZER;CN="Steve Boss":MAILTO:stevebossuk@yahoo.co.uk
END:VEVENT
BEGIN:VEVENT
DTSTART;TZID=UTC:20250214T150000
DTEND;TZID=UTC:20250214T160000
DTSTAMP:20260419T131410
CREATED:20250112T103943Z
LAST-MODIFIED:20250122T214053Z
UID:726-1739545200-1739548800@cpwfc.org
SUMMARY:Friday 14th February
DESCRIPTION:Booking opens on January 23rd at 9.00am. Organisers are pre-booked. Waiting list priority order reads from left to right on top row\, then left to right on second row etc.
URL:https://cpwfc.org/event/friday-14th-february
LOCATION:Cirencester Arena
CATEGORIES:Friday
ORGANIZER;CN="Adrian Chamberlain":MAILTO:ajc2adrian@gmail.com
END:VEVENT
BEGIN:VEVENT
DTSTART;TZID=UTC:20250207T150000
DTEND;TZID=UTC:20250207T160000
DTSTAMP:20260419T131410
CREATED:20250112T103753Z
LAST-MODIFIED:20250122T194254Z
UID:722-1738940400-1738944000@cpwfc.org
SUMMARY:Friday 7th February
DESCRIPTION:Booking opens on January 23rd at 9.00am. Organisers are pre-booked. Waiting list priority order reads from left to right on top row\, then left to right on second row etc.
URL:https://cpwfc.org/event/friday-7th-february
LOCATION:Cirencester Arena
CATEGORIES:Friday
ORGANIZER;CN="Geoff Mitchell":MAILTO:gjm2282@hotmail.com
END:VEVENT
BEGIN:VEVENT
DTSTART;TZID=UTC:20250131T150000
DTEND;TZID=UTC:20250131T160000
DTSTAMP:20260419T131410
CREATED:20241203T142729Z
LAST-MODIFIED:20241222T155111Z
UID:680-1738335600-1738339200@cpwfc.org
SUMMARY:Friday 31st January
DESCRIPTION:Booking opens on December 23rd at 9.00am. Organisers are pre-booked. Waiting list priority order reads from left to right on top row\, then left to right on second row etc.
URL:https://cpwfc.org/event/friday-31st-january
LOCATION:Cirencester Arena
CATEGORIES:Friday
ORGANIZER;CN="Peter Mitchell":MAILTO:pjmitch1348@gmail.com
END:VEVENT
BEGIN:VEVENT
DTSTART;TZID=UTC:20250124T150000
DTEND;TZID=UTC:20250124T160000
DTSTAMP:20260419T131410
CREATED:20241203T142513Z
LAST-MODIFIED:20241220T225809Z
UID:676-1737730800-1737734400@cpwfc.org
SUMMARY:Friday 24th January
DESCRIPTION:Booking opens on December 23rd at 9.00am. Organisers are pre-booked. Waiting list priority order reads from left to right on top row\, then left to right on second row etc.
URL:https://cpwfc.org/event/friday-24th-january
LOCATION:Cirencester Arena
CATEGORIES:Friday
ORGANIZER;CN="Steve Boss":MAILTO:stevebossuk@yahoo.co.uk
END:VEVENT
BEGIN:VEVENT
DTSTART;TZID=UTC:20250117T150000
DTEND;TZID=UTC:20250117T160000
DTSTAMP:20260419T131410
CREATED:20241203T142310Z
LAST-MODIFIED:20241220T225730Z
UID:672-1737126000-1737129600@cpwfc.org
SUMMARY:Friday 17th January
DESCRIPTION:Booking opens on December 23rd at 9.00am. Organisers are pre-booked. Waiting list priority order reads from left to right on top row\, then left to right on second row etc.
URL:https://cpwfc.org/event/friday-17th-january
LOCATION:Cirencester Arena
CATEGORIES:Friday
ORGANIZER;CN="Geoff Mitchell":MAILTO:gjm2282@hotmail.com
END:VEVENT
BEGIN:VEVENT
DTSTART;TZID=UTC:20250110T150000
DTEND;TZID=UTC:20250110T160000
DTSTAMP:20260419T131410
CREATED:20241203T141957Z
LAST-MODIFIED:20241220T225555Z
UID:668-1736521200-1736524800@cpwfc.org
SUMMARY:Friday 10th January
DESCRIPTION:Booking opens on December 23rd at 9.00am. Organisers are pre-booked. Waiting list priority order reads from left to right on top row\, then left to right on second row etc.
URL:https://cpwfc.org/event/friday-10th-january
LOCATION:Cirencester Arena
CATEGORIES:Friday
ORGANIZER;CN="Jeff Green":MAILTO:jeff.green50@icloud.com
END:VEVENT
BEGIN:VEVENT
DTSTART;TZID=UTC:20250103T160000
DTEND;TZID=UTC:20250103T170000
DTSTAMP:20260419T131410
CREATED:20241203T141436Z
LAST-MODIFIED:20241220T225341Z
UID:662-1735920000-1735923600@cpwfc.org
SUMMARY:Friday 3rd January
DESCRIPTION:NOTE: THIS IS A 4.00pm START. Booking opens on December 23rd at 9.00am. Organisers are pre-booked. Waiting list priority order reads from left to right on top row\, then left to right on second row etc.
URL:https://cpwfc.org/event/friday-3rd-january
LOCATION:Cirencester Arena
CATEGORIES:Friday
ORGANIZER;CN="Dave Jenkins":MAILTO:dave.cjenkins@btinternet.com
END:VEVENT
BEGIN:VEVENT
DTSTART;TZID=UTC:20241227T160000
DTEND;TZID=UTC:20241227T170000
DTSTAMP:20260419T131410
CREATED:20241111T152053Z
LAST-MODIFIED:20241121T141517Z
UID:612-1735315200-1735318800@cpwfc.org
SUMMARY:Friday 27th December
DESCRIPTION:NOTE: THIS IS A 4.00pm START.  Booking opens on November 23rd at 9.00am. Organisers are pre-booked. Waiting list priority order reads from left to right on top row\, then left to right on second row etc.
URL:https://cpwfc.org/event/friday-27th-december
LOCATION:Cirencester Arena
CATEGORIES:Friday
ORGANIZER;CN="Peter Mitchell":MAILTO:pjmitch1348@gmail.com
END:VEVENT
BEGIN:VEVENT
DTSTART;TZID=UTC:20241220T150000
DTEND;TZID=UTC:20241220T160000
DTSTAMP:20260419T131410
CREATED:20241111T151830Z
LAST-MODIFIED:20241121T141435Z
UID:608-1734706800-1734710400@cpwfc.org
SUMMARY:Friday 20th December
DESCRIPTION:Booking opens on November 23rd at 9.00am. Organisers are pre-booked. Waiting list priority order reads from left to right on top row\, then left to right on second row etc.
URL:https://cpwfc.org/event/friday-20th-december
LOCATION:Cirencester Arena
CATEGORIES:Friday
ORGANIZER;CN="Steve Boss":MAILTO:stevebossuk@yahoo.co.uk
END:VEVENT
BEGIN:VEVENT
DTSTART;TZID=UTC:20241213T140000
DTEND;TZID=UTC:20241213T160000
DTSTAMP:20260419T131410
CREATED:20241011T075027Z
LAST-MODIFIED:20241119T111502Z
UID:544-1734098400-1734105600@cpwfc.org
SUMMARY:Christmas Cup - Friday 13th December
DESCRIPTION:Booking opens on November 23rd at 9.00am
URL:https://cpwfc.org/event/christmas-cup-friday-13th-december
LOCATION:Cirencester Arena
CATEGORIES:Friday
ORGANIZER;CN="Paul Hallam and Jon Athawes":MAILTO:phallamaudit@gmail.com jon.athawes@hotmail.co.uk
END:VEVENT
BEGIN:VEVENT
DTSTART;TZID=UTC:20241206T150000
DTEND;TZID=UTC:20241206T160000
DTSTAMP:20260419T131410
CREATED:20241011T074730Z
LAST-MODIFIED:20241119T102809Z
UID:540-1733497200-1733500800@cpwfc.org
SUMMARY:Friday 6th December
DESCRIPTION:Booking opens on November 23rd at 9.00am. Organisers are pre-booked. Waiting list priority order reads from left to right on top row\, then left to right on second row etc.
URL:https://cpwfc.org/event/friday-6th-december
LOCATION:Cirencester Arena
CATEGORIES:Friday
ORGANIZER;CN="Geoff Mitchell":MAILTO:gjm2282@hotmail.com
END:VEVENT
BEGIN:VEVENT
DTSTART;TZID=UTC:20241129T150000
DTEND;TZID=UTC:20241129T160000
DTSTAMP:20260419T131410
CREATED:20240920T075554Z
LAST-MODIFIED:20241027T095251Z
UID:445-1732892400-1732896000@cpwfc.org
SUMMARY:Friday 29th November
DESCRIPTION:Booking opens on October 27th at 9.00am. Organisers are pre-booked. Waiting list priority order reads from left to right on top row\, then left to right on second row etc.
URL:https://cpwfc.org/event/friday-29th-november
LOCATION:Cirencester Arena
CATEGORIES:Friday
ORGANIZER;CN="Dave Jenkins":MAILTO:dave.cjenkins@btinternet.com
END:VEVENT
BEGIN:VEVENT
DTSTART;TZID=UTC:20241122T150000
DTEND;TZID=UTC:20241122T160000
DTSTAMP:20260419T131410
CREATED:20240920T075350Z
LAST-MODIFIED:20241110T135719Z
UID:441-1732287600-1732291200@cpwfc.org
SUMMARY:Friday 22nd November
DESCRIPTION:Booking opens on October 27th at 9.00am. Organisers are pre-booked. Waiting list priority order reads from left to right on top row\, then left to right on second row etc.
URL:https://cpwfc.org/event/friday-22nd-november
LOCATION:Cirencester Arena
CATEGORIES:Friday
ORGANIZER;CN="Geoff Mitchell":MAILTO:gjm2282@hotmail.com
END:VEVENT
BEGIN:VEVENT
DTSTART;TZID=UTC:20241115T150000
DTEND;TZID=UTC:20241115T160000
DTSTAMP:20260419T131410
CREATED:20240920T075132Z
LAST-MODIFIED:20241111T140051Z
UID:437-1731682800-1731686400@cpwfc.org
SUMMARY:Friday 15th November
DESCRIPTION:Booking opens on October 27th at 9.00am. Organisers are pre-booked. Waiting list priority order reads from left to right on top row\, then left to right on second row etc.
URL:https://cpwfc.org/event/friday-15th-november
LOCATION:Cirencester Arena
CATEGORIES:Friday
ORGANIZER;CN="Jeff Green":MAILTO:jeff.green50@icloud.com
END:VEVENT
BEGIN:VEVENT
DTSTART;TZID=UTC:20241108T150000
DTEND;TZID=UTC:20241108T160000
DTSTAMP:20260419T131410
CREATED:20240920T074701Z
LAST-MODIFIED:20241027T095203Z
UID:429-1731078000-1731081600@cpwfc.org
SUMMARY:Friday 8th November
DESCRIPTION:Booking opens on October 27th at 9.00am. Organisers are pre-booked. Waiting list priority order reads from left to right on top row\, then left to right on second row etc.
URL:https://cpwfc.org/event/friday-november-8th
LOCATION:Cirencester Arena
CATEGORIES:Friday
ORGANIZER;CN="Steve Boss":MAILTO:stevebossuk@yahoo.co.uk
END:VEVENT
BEGIN:VEVENT
DTSTART;TZID=UTC:20241101T150000
DTEND;TZID=UTC:20241101T160000
DTSTAMP:20260419T131410
CREATED:20240920T074357Z
LAST-MODIFIED:20241027T095123Z
UID:425-1730473200-1730476800@cpwfc.org
SUMMARY:Friday 1st November
DESCRIPTION:Booking opens on October 27th at 9.00am. Organisers are pre-booked. Waiting list priority order reads from left to right on top row\, then left to right on second row etc.
URL:https://cpwfc.org/event/friday-november-1st
LOCATION:Cirencester Arena
CATEGORIES:Friday
ORGANIZER;CN="Peter Mitchell":MAILTO:pjmitch1348@gmail.com
END:VEVENT
END:VCALENDAR